Package: gDRcore Version: 1.7.8 Command: /home/biocbuild/bbs-3.22-bioc/R/bin/R CMD INSTALL gDRcore StartedAt: 2025-10-08 15:51:27 -0400 (Wed, 08 Oct 2025) EndedAt: 2025-10-08 15:51:45 -0400 (Wed, 08 Oct 2025) EllapsedTime: 17.6 seconds RetCode: 0 Status: OK