Package: gDRcore Version: 1.7.8 Command: /home/biocbuild/bbs-3.22-bioc/R/bin/R CMD build --keep-empty-dirs --no-resave-data --md5 gDRcore StartedAt: 2025-10-08 18:06:59 -0400 (Wed, 08 Oct 2025) EndedAt: 2025-10-08 18:07:41 -0400 (Wed, 08 Oct 2025) EllapsedTime: 42.0 seconds RetCode: 0 Status: OK PackageFile: gDRcore_1.7.8.tar.gz PackageFileSize: 1.098 MiB