Package: flowWorkspace Version: 4.23.0 Command: /home/biocbuild/bbs-3.23-bioc/R/bin/R CMD INSTALL flowWorkspace StartedAt: 2025-11-07 15:16:42 -0500 (Fri, 07 Nov 2025) EndedAt: 2025-11-07 15:18:55 -0500 (Fri, 07 Nov 2025) EllapsedTime: 133.3 seconds RetCode: 0 Status: OK