Package: flowWorkspace Version: 4.23.0 Command: /home/biocbuild/bbs-3.23-bioc/R/bin/R CMD build --keep-empty-dirs --no-resave-data flowWorkspace StartedAt: 2025-11-07 17:36:50 -0500 (Fri, 07 Nov 2025) EndedAt: 2025-11-07 17:39:34 -0500 (Fri, 07 Nov 2025) EllapsedTime: 164.2 seconds RetCode: 0 Status: OK PackageFile: flowWorkspace_4.23.0.tar.gz PackageFileSize: 5.081 MiB