Package: flowWorkspace Version: 4.21.0 Command: /Library/Frameworks/R.framework/Resources/bin/R CMD INSTALL flowWorkspace StartedAt: 2025-10-16 15:46:01 -0400 (Thu, 16 Oct 2025) EndedAt: 2025-10-16 15:48:24 -0400 (Thu, 16 Oct 2025) EllapsedTime: 142.4 seconds RetCode: 0 Status: OK