Package: flowWorkspace Version: 4.21.0 Command: /Library/Frameworks/R.framework/Resources/bin/R CMD INSTALL flowWorkspace StartedAt: 2025-10-03 15:08:30 -0400 (Fri, 03 Oct 2025) EndedAt: 2025-10-03 15:09:05 -0400 (Fri, 03 Oct 2025) EllapsedTime: 35.0 seconds RetCode: 0 Status: OK