Package: flowWorkspace Version: 4.21.0 Command: rm -rf flowWorkspace.buildbin-libdir && mkdir flowWorkspace.buildbin-libdir && /Users/biocbuild/BBS/utils/build-universal.sh flowWorkspace_4.21.0.tar.gz /Library/Frameworks/R.framework/Resources/bin/R flowWorkspace.buildbin-libdir StartedAt: 2025-10-03 22:39:40 -0400 (Fri, 03 Oct 2025) EndedAt: 2025-10-03 22:40:27 -0400 (Fri, 03 Oct 2025) EllapsedTime: 46.9 seconds RetCode: 0 Status: OK PackageFile: flowWorkspace_4.21.0.tgz PackageFileSize: 5.855 MiB