Package: flowTime Version: 1.33.0 Command: /home/biocbuild/bbs-3.22-bioc/R/bin/R CMD INSTALL flowTime StartedAt: 2025-10-06 15:13:09 -0400 (Mon, 06 Oct 2025) EndedAt: 2025-10-06 15:13:16 -0400 (Mon, 06 Oct 2025) EllapsedTime: 7.3 seconds RetCode: 0 Status: OK