Package: flowStats Version: 4.21.0 Command: /home/biocbuild/bbs-3.22-bioc/R/bin/R CMD INSTALL flowStats StartedAt: 2025-10-01 15:43:16 -0400 (Wed, 01 Oct 2025) EndedAt: 2025-10-01 15:43:47 -0400 (Wed, 01 Oct 2025) EllapsedTime: 31.3 seconds RetCode: 0 Status: OK