Package: flowStats Version: 4.21.0 Command: /home/biocbuild/bbs-3.22-bioc/R/bin/R CMD build --keep-empty-dirs --no-resave-data --md5 flowStats StartedAt: 2025-10-01 18:02:27 -0400 (Wed, 01 Oct 2025) EndedAt: 2025-10-01 18:04:02 -0400 (Wed, 01 Oct 2025) EllapsedTime: 95.1 seconds RetCode: 0 Status: OK PackageFile: flowStats_4.21.0.tar.gz PackageFileSize: 10.97 MiB