Package: flowGraph Version: 1.19.0 Command: /Library/Frameworks/R.framework/Resources/bin/R CMD INSTALL flowGraph StartedAt: 2025-11-21 15:17:00 -0500 (Fri, 21 Nov 2025) EndedAt: 2025-11-21 15:17:29 -0500 (Fri, 21 Nov 2025) EllapsedTime: 29.2 seconds RetCode: 0 Status: OK