Package: flowGraph Version: 1.19.0 Command: /Library/Frameworks/R.framework/Resources/bin/R CMD build --keep-empty-dirs --no-resave-data flowGraph StartedAt: 2025-11-21 17:02:14 -0500 (Fri, 21 Nov 2025) EndedAt: 2025-11-21 17:03:04 -0500 (Fri, 21 Nov 2025) EllapsedTime: 50.4 seconds RetCode: 0 Status: OK PackageFile: flowGraph_1.19.0.tar.gz PackageFileSize: 2.221 MiB