Package: flowGraph Version: 1.19.0 Command: rm -rf flowGraph.buildbin-libdir && mkdir flowGraph.buildbin-libdir && /Users/biocbuild/BBS/utils/build-universal.sh flowGraph_1.19.0.tar.gz /Library/Frameworks/R.framework/Resources/bin/R flowGraph.buildbin-libdir StartedAt: 2025-11-22 01:34:30 -0500 (Sat, 22 Nov 2025) EndedAt: 2025-11-22 01:34:51 -0500 (Sat, 22 Nov 2025) EllapsedTime: 20.9 seconds RetCode: 0 Status: OK PackageFile: flowGraph_1.19.0.tgz PackageFileSize: 2.597 MiB