Package: flowGraph Version: 1.19.0 Command: /Library/Frameworks/R.framework/Resources/bin/R CMD INSTALL flowGraph StartedAt: 2025-11-13 15:05:54 -0500 (Thu, 13 Nov 2025) EndedAt: 2025-11-13 15:06:00 -0500 (Thu, 13 Nov 2025) EllapsedTime: 5.8 seconds RetCode: 0 Status: OK