Package: flowGraph Version: 1.19.0 Command: rm -rf flowGraph.buildbin-libdir && mkdir flowGraph.buildbin-libdir && /Users/biocbuild/BBS/utils/build-universal.sh flowGraph_1.19.0.tar.gz /Library/Frameworks/R.framework/Resources/bin/R flowGraph.buildbin-libdir StartedAt: 2025-11-13 23:37:54 -0500 (Thu, 13 Nov 2025) EndedAt: 2025-11-13 23:38:00 -0500 (Thu, 13 Nov 2025) EllapsedTime: 6.2 seconds RetCode: 0 Status: OK PackageFile: flowGraph_1.19.0.tgz PackageFileSize: 2.603 MiB