Package: flowGate Version: 1.9.0 Command: /home/biocbuild/bbs-3.22-bioc/R/bin/R CMD INSTALL flowGate StartedAt: 2025-10-01 15:41:41 -0400 (Wed, 01 Oct 2025) EndedAt: 2025-10-01 15:41:59 -0400 (Wed, 01 Oct 2025) EllapsedTime: 18.4 seconds RetCode: 0 Status: OK