Package: flowGate Version: 1.9.0 Command: /home/biocbuild/bbs-3.22-bioc/R/bin/R CMD build --keep-empty-dirs --no-resave-data --md5 flowGate StartedAt: 2025-09-30 17:38:35 -0400 (Tue, 30 Sep 2025) EndedAt: 2025-09-30 17:39:05 -0400 (Tue, 30 Sep 2025) EllapsedTime: 30.0 seconds RetCode: 0 Status: OK PackageFile: flowGate_1.9.0.tar.gz PackageFileSize: 2.1 MiB