Package: flowFP Version: 1.67.0 Command: /home/biocbuild/bbs-3.22-bioc/R/bin/R CMD INSTALL flowFP StartedAt: 2025-10-09 15:16:06 -0400 (Thu, 09 Oct 2025) EndedAt: 2025-10-09 15:16:19 -0400 (Thu, 09 Oct 2025) EllapsedTime: 12.5 seconds RetCode: 0 Status: OK