Package: flowFP Version: 1.67.0 Command: /home/biocbuild/bbs-3.22-bioc/R/bin/R CMD build --keep-empty-dirs --no-resave-data --md5 flowFP StartedAt: 2025-10-08 18:03:16 -0400 (Wed, 08 Oct 2025) EndedAt: 2025-10-08 18:03:40 -0400 (Wed, 08 Oct 2025) EllapsedTime: 24.0 seconds RetCode: 0 Status: OK PackageFile: flowFP_1.67.0.tar.gz PackageFileSize: 5.133 MiB