Package: flowDensity Version: 1.43.0 Command: /home/biocbuild/bbs-3.22-bioc/R/bin/R CMD INSTALL flowDensity StartedAt: 2025-10-08 15:24:59 -0400 (Wed, 08 Oct 2025) EndedAt: 2025-10-08 15:25:09 -0400 (Wed, 08 Oct 2025) EllapsedTime: 10.0 seconds RetCode: 0 Status: OK