Package: flowDensity Version: 1.43.0 Command: /home/biocbuild/bbs-3.22-bioc/R/bin/R CMD build --keep-empty-dirs --no-resave-data --md5 flowDensity StartedAt: 2025-10-08 18:03:16 -0400 (Wed, 08 Oct 2025) EndedAt: 2025-10-08 18:03:18 -0400 (Wed, 08 Oct 2025) EllapsedTime: 2.0 seconds RetCode: 0 Status: OK PackageFile: flowDensity_1.43.0.tar.gz PackageFileSize: 4.296 MiB