Package: flowCore Version: 2.23.0 Command: /home/biocbuild/bbs-3.23-bioc/R/bin/R CMD INSTALL flowCore StartedAt: 2025-11-19 15:16:20 -0500 (Wed, 19 Nov 2025) EndedAt: 2025-11-19 15:17:03 -0500 (Wed, 19 Nov 2025) EllapsedTime: 42.4 seconds RetCode: 0 Status: OK