Package: flowCore Version: 2.23.0 Command: /home/biocbuild/bbs-3.23-bioc/R/bin/R CMD build --keep-empty-dirs --no-resave-data flowCore StartedAt: 2025-11-19 17:41:57 -0500 (Wed, 19 Nov 2025) EndedAt: 2025-11-19 17:43:14 -0500 (Wed, 19 Nov 2025) EllapsedTime: 77.1 seconds RetCode: 0 Status: OK PackageFile: flowCore_2.23.0.tar.gz PackageFileSize: 7.451 MiB