Package: flowCore Version: 2.23.0 Command: /Library/Frameworks/R.framework/Resources/bin/R CMD INSTALL flowCore StartedAt: 2025-11-18 15:18:37 -0500 (Tue, 18 Nov 2025) EndedAt: 2025-11-18 15:19:45 -0500 (Tue, 18 Nov 2025) EllapsedTime: 68.6 seconds RetCode: 0 Status: OK