Package: flowCore Version: 2.23.0 Command: /Library/Frameworks/R.framework/Resources/bin/R CMD build --keep-empty-dirs --no-resave-data flowCore StartedAt: 2025-11-18 16:59:26 -0500 (Tue, 18 Nov 2025) EndedAt: 2025-11-18 17:01:06 -0500 (Tue, 18 Nov 2025) EllapsedTime: 99.6 seconds RetCode: 0 Status: OK PackageFile: flowCore_2.23.0.tar.gz PackageFileSize: 7.445 MiB