Package: flowCore Version: 2.23.0 Command: rm -rf flowCore.buildbin-libdir && mkdir flowCore.buildbin-libdir && /Users/biocbuild/BBS/utils/build-universal.sh flowCore_2.23.0.tar.gz /Library/Frameworks/R.framework/Resources/bin/R flowCore.buildbin-libdir StartedAt: 2025-11-19 01:29:11 -0500 (Wed, 19 Nov 2025) EndedAt: 2025-11-19 01:30:12 -0500 (Wed, 19 Nov 2025) EllapsedTime: 61.6 seconds RetCode: 0 Status: OK PackageFile: flowCore_2.23.0.tgz PackageFileSize: 8.175 MiB