Package: flowCore Version: 2.21.0 Command: /Library/Frameworks/R.framework/Resources/bin/R CMD INSTALL flowCore StartedAt: 2025-10-26 15:07:09 -0400 (Sun, 26 Oct 2025) EndedAt: 2025-10-26 15:07:25 -0400 (Sun, 26 Oct 2025) EllapsedTime: 15.7 seconds RetCode: 0 Status: OK