Package: flowCore Version: 2.21.0 Command: /Library/Frameworks/R.framework/Resources/bin/R CMD build --keep-empty-dirs --no-resave-data flowCore StartedAt: 2025-10-26 16:30:11 -0400 (Sun, 26 Oct 2025) EndedAt: 2025-10-26 16:30:40 -0400 (Sun, 26 Oct 2025) EllapsedTime: 29.3 seconds RetCode: 0 Status: OK PackageFile: flowCore_2.21.0.tar.gz PackageFileSize: 7.454 MiB