Package: flowCore Version: 2.21.0 Command: rm -rf flowCore.buildbin-libdir && mkdir flowCore.buildbin-libdir && /Users/biocbuild/BBS/utils/build-universal.sh flowCore_2.21.0.tar.gz /Library/Frameworks/R.framework/Resources/bin/R flowCore.buildbin-libdir StartedAt: 2025-10-26 22:35:53 -0400 (Sun, 26 Oct 2025) EndedAt: 2025-10-26 22:36:07 -0400 (Sun, 26 Oct 2025) EllapsedTime: 14.3 seconds RetCode: 0 Status: OK PackageFile: flowCore_2.21.0.tgz PackageFileSize: 8.16 MiB