Package: flowClean Version: 1.47.0 Command: /home/biocbuild/bbs-3.22-bioc/R/bin/R CMD INSTALL flowClean StartedAt: 2025-09-30 15:13:55 -0400 (Tue, 30 Sep 2025) EndedAt: 2025-09-30 15:14:02 -0400 (Tue, 30 Sep 2025) EllapsedTime: 7.5 seconds RetCode: 0 Status: OK