Package: flowAI Version: 1.41.0 Command: /home/biocbuild/bbs-3.23-bioc/R/bin/R CMD INSTALL flowAI StartedAt: 2025-11-26 15:14:01 -0500 (Wed, 26 Nov 2025) EndedAt: 2025-11-26 15:14:11 -0500 (Wed, 26 Nov 2025) EllapsedTime: 10.6 seconds RetCode: 0 Status: OK