Package: flowAI Version: 1.41.0 Command: /Library/Frameworks/R.framework/Resources/bin/R CMD build --keep-empty-dirs --no-resave-data flowAI StartedAt: 2025-11-20 17:01:29 -0500 (Thu, 20 Nov 2025) EndedAt: 2025-11-20 17:01:46 -0500 (Thu, 20 Nov 2025) EllapsedTime: 17.0 seconds RetCode: 0 Status: OK PackageFile: flowAI_1.41.0.tar.gz PackageFileSize: 3.748 MiB