Package: flowAI Version: 1.41.0 Command: rm -rf flowAI.buildbin-libdir && mkdir flowAI.buildbin-libdir && /Users/biocbuild/BBS/utils/build-universal.sh flowAI_1.41.0.tar.gz /Library/Frameworks/R.framework/Resources/bin/R flowAI.buildbin-libdir StartedAt: 2025-11-21 01:33:56 -0500 (Fri, 21 Nov 2025) EndedAt: 2025-11-21 01:34:15 -0500 (Fri, 21 Nov 2025) EllapsedTime: 18.6 seconds RetCode: 0 Status: OK PackageFile: flowAI_1.41.0.tgz PackageFileSize: 3.691 MiB