Package: flowAI Version: 1.41.0 Command: /Library/Frameworks/R.framework/Resources/bin/R CMD INSTALL flowAI StartedAt: 2025-11-14 15:08:02 -0500 (Fri, 14 Nov 2025) EndedAt: 2025-11-14 15:08:07 -0500 (Fri, 14 Nov 2025) EllapsedTime: 5.4 seconds RetCode: 0 Status: OK