Package: flowAI Version: 1.41.0 Command: /Library/Frameworks/R.framework/Resources/bin/R CMD build --keep-empty-dirs --no-resave-data flowAI StartedAt: 2025-11-14 16:21:45 -0500 (Fri, 14 Nov 2025) EndedAt: 2025-11-14 16:21:52 -0500 (Fri, 14 Nov 2025) EllapsedTime: 7.1 seconds RetCode: 0 Status: OK PackageFile: flowAI_1.41.0.tar.gz PackageFileSize: 3.748 MiB