Package: fcScan Version: 1.23.0 Command: /home/biocbuild/bbs-3.22-bioc/R/bin/R CMD INSTALL fcScan StartedAt: 2025-10-03 15:39:17 -0400 (Fri, 03 Oct 2025) EndedAt: 2025-10-03 15:39:55 -0400 (Fri, 03 Oct 2025) EllapsedTime: 38.0 seconds RetCode: 0 Status: OK