Package: fcScan Version: 1.23.0 Command: /home/biocbuild/bbs-3.22-bioc/R/bin/R CMD build --keep-empty-dirs --no-resave-data --md5 fcScan StartedAt: 2025-10-03 17:35:55 -0400 (Fri, 03 Oct 2025) EndedAt: 2025-10-03 17:37:02 -0400 (Fri, 03 Oct 2025) EllapsedTime: 67.1 seconds RetCode: 0 Status: OK PackageFile: fcScan_1.23.0.tar.gz PackageFileSize: 242.2 KiB