Package: fastseg Version: 1.57.0 Command: /Library/Frameworks/R.framework/Resources/bin/R CMD INSTALL fastseg StartedAt: 2025-11-26 15:11:36 -0500 (Wed, 26 Nov 2025) EndedAt: 2025-11-26 15:11:40 -0500 (Wed, 26 Nov 2025) EllapsedTime: 4.2 seconds RetCode: 0 Status: OK