Package: fastseg Version: 1.57.0 Command: /Library/Frameworks/R.framework/Resources/bin/R CMD build --keep-empty-dirs --no-resave-data fastseg StartedAt: 2025-11-26 16:20:46 -0500 (Wed, 26 Nov 2025) EndedAt: 2025-11-26 16:21:00 -0500 (Wed, 26 Nov 2025) EllapsedTime: 14.2 seconds RetCode: 0 Status: OK PackageFile: fastseg_1.57.0.tar.gz PackageFileSize: 729.8 KiB