Package: fastseg Version: 1.57.0 Command: rm -rf fastseg.buildbin-libdir && mkdir fastseg.buildbin-libdir && /Users/biocbuild/BBS/utils/build-universal.sh fastseg_1.57.0.tar.gz /Library/Frameworks/R.framework/Resources/bin/R fastseg.buildbin-libdir StartedAt: 2025-11-25 23:33:31 -0500 (Tue, 25 Nov 2025) EndedAt: 2025-11-25 23:33:38 -0500 (Tue, 25 Nov 2025) EllapsedTime: 6.2 seconds RetCode: 0 Status: OK PackageFile: fastseg_1.57.0.tgz PackageFileSize: 765.3 KiB