Package: epidecodeR Version: 1.19.0 Command: /home/biocbuild/bbs-3.23-bioc/R/bin/R CMD INSTALL epidecodeR StartedAt: 2025-11-07 15:27:32 -0500 (Fri, 07 Nov 2025) EndedAt: 2025-11-07 15:28:04 -0500 (Fri, 07 Nov 2025) EllapsedTime: 32.3 seconds RetCode: 0 Status: OK