Package: epidecodeR Version: 1.19.0 Command: /home/biocbuild/bbs-3.23-bioc/R/bin/R CMD build --keep-empty-dirs --no-resave-data epidecodeR StartedAt: 2025-11-07 17:26:33 -0500 (Fri, 07 Nov 2025) EndedAt: 2025-11-07 17:27:25 -0500 (Fri, 07 Nov 2025) EllapsedTime: 52.1 seconds RetCode: 0 Status: OK PackageFile: epidecodeR_1.19.0.tar.gz PackageFileSize: 2.001 MiB