Package: epidecodeR Version: 1.17.0 Command: /Library/Frameworks/R.framework/Resources/bin/R CMD build --keep-empty-dirs --no-resave-data epidecodeR StartedAt: 2025-10-20 17:02:51 -0400 (Mon, 20 Oct 2025) EndedAt: 2025-10-20 17:04:09 -0400 (Mon, 20 Oct 2025) EllapsedTime: 77.9 seconds RetCode: 0 Status: OK PackageFile: epidecodeR_1.17.0.tar.gz PackageFileSize: 2.064 MiB