Package: epidecodeR Version: 1.17.0 Command: rm -rf epidecodeR.buildbin-libdir && mkdir epidecodeR.buildbin-libdir && /Users/biocbuild/BBS/utils/build-universal.sh epidecodeR_1.17.0.tar.gz /Library/Frameworks/R.framework/Resources/bin/R epidecodeR.buildbin-libdir StartedAt: 2025-10-23 01:31:33 -0400 (Thu, 23 Oct 2025) EndedAt: 2025-10-23 01:32:21 -0400 (Thu, 23 Oct 2025) EllapsedTime: 47.5 seconds RetCode: 0 Status: OK PackageFile: epidecodeR_1.17.0.tgz PackageFileSize: 1.948 MiB