Package: epidecodeR Version: 1.17.0 Command: /Library/Frameworks/R.framework/Resources/bin/R CMD INSTALL epidecodeR StartedAt: 2025-10-21 15:17:09 -0400 (Tue, 21 Oct 2025) EndedAt: 2025-10-21 15:17:23 -0400 (Tue, 21 Oct 2025) EllapsedTime: 13.9 seconds RetCode: 0 Status: OK