Package: enrichplot Version: 1.31.0 Command: /home/biocbuild/bbs-3.23-bioc/R/bin/R CMD build --keep-empty-dirs --no-resave-data enrichplot StartedAt: 2025-11-14 17:28:31 -0500 (Fri, 14 Nov 2025) EndedAt: 2025-11-14 17:28:56 -0500 (Fri, 14 Nov 2025) EllapsedTime: 25.0 seconds RetCode: 0 Status: OK PackageFile: enrichplot_1.31.0.tar.gz PackageFileSize: 96.52 KiB