Package: enrichplot Version: 1.29.2 Command: /Library/Frameworks/R.framework/Resources/bin/R CMD INSTALL enrichplot StartedAt: 2025-10-06 15:39:37 -0400 (Mon, 06 Oct 2025) EndedAt: 2025-10-06 15:40:09 -0400 (Mon, 06 Oct 2025) EllapsedTime: 32.0 seconds RetCode: 0 Status: OK