Package: enrichplot Version: 1.29.2 Command: rm -rf enrichplot.buildbin-libdir && mkdir enrichplot.buildbin-libdir && /Users/biocbuild/BBS/utils/build-universal.sh enrichplot_1.29.2.tar.gz /Library/Frameworks/R.framework/Resources/bin/R enrichplot.buildbin-libdir StartedAt: 2025-10-06 01:59:29 -0400 (Mon, 06 Oct 2025) EndedAt: 2025-10-06 02:00:04 -0400 (Mon, 06 Oct 2025) EllapsedTime: 34.6 seconds RetCode: 0 Status: OK PackageFile: enrichplot_1.29.2.tgz PackageFileSize: 303.8 KiB