Package: enrichplot Version: 1.29.2 Command: /Library/Frameworks/R.framework/Resources/bin/R CMD INSTALL enrichplot StartedAt: 2025-10-01 15:25:34 -0400 (Wed, 01 Oct 2025) EndedAt: 2025-10-01 15:25:43 -0400 (Wed, 01 Oct 2025) EllapsedTime: 9.8 seconds RetCode: 0 Status: OK