Package: enrichplot Version: 1.31.0 Maintainer: Guangchuang Yu MaintainerEmail: guangchuangyu at gmail.com git_url: https://git.bioconductor.org/packages/enrichplot git_branch: devel git_last_commit: 682bc26 git_last_commit_date: 2025-10-29 10:43:16 -0400 (Wed, 29 Oct 2025)